BEGIN:VCALENDAR
VERSION:2.0
PRODID:-//Súkromná základná umelecká škola Gaudia - ECPv6.15.20//NONSGML v1.0//EN
CALSCALE:GREGORIAN
METHOD:PUBLISH
X-ORIGINAL-URL:https://www.skolagaudia.sk
X-WR-CALDESC:Events for Súkromná základná umelecká škola Gaudia
REFRESH-INTERVAL;VALUE=DURATION:PT1H
X-Robots-Tag:noindex
X-PUBLISHED-TTL:PT1H
BEGIN:VTIMEZONE
TZID:Europe/Paris
BEGIN:DAYLIGHT
TZOFFSETFROM:+0100
TZOFFSETTO:+0200
TZNAME:CEST
DTSTART:20250330T010000
END:DAYLIGHT
BEGIN:STANDARD
TZOFFSETFROM:+0200
TZOFFSETTO:+0100
TZNAME:CET
DTSTART:20251026T010000
END:STANDARD
BEGIN:DAYLIGHT
TZOFFSETFROM:+0100
TZOFFSETTO:+0200
TZNAME:CEST
DTSTART:20260329T010000
END:DAYLIGHT
BEGIN:STANDARD
TZOFFSETFROM:+0200
TZOFFSETTO:+0100
TZNAME:CET
DTSTART:20261025T010000
END:STANDARD
BEGIN:DAYLIGHT
TZOFFSETFROM:+0100
TZOFFSETTO:+0200
TZNAME:CEST
DTSTART:20270328T010000
END:DAYLIGHT
BEGIN:STANDARD
TZOFFSETFROM:+0200
TZOFFSETTO:+0100
TZNAME:CET
DTSTART:20271031T010000
END:STANDARD
END:VTIMEZONE
BEGIN:VEVENT
DTSTART;TZID=Europe/Paris:20260506T140000
DTEND;TZID=Europe/Paris:20260506T173000
DTSTAMP:20260426T050856
CREATED:20260210T164836Z
LAST-MODIFIED:20260210T164918Z
UID:2578-1778076000-1778088600@www.skolagaudia.sk
SUMMARY:Prijímacie skúšky na školský rok 2026/2027
DESCRIPTION:Pozývame Vás na Prijímacie skúšky\, ktoré sa uskutočnia: 27. apríla 2026  od 14:00 do 17:30 \n6. mája 2026 od 14:00 do 17:30
URL:https://www.skolagaudia.sk/event/prijimacie-skusky-na-skolsky-rok-2026-2027-2/
ATTACH;FMTTYPE=image/jpeg:https://www.skolagaudia.sk/wp-content/uploads/2026/02/Prijimacky.jpg
END:VEVENT
END:VCALENDAR