BEGIN:VCALENDAR
VERSION:2.0
PRODID:-//Súkromná základná umelecká škola Gaudia - ECPv6.15.20//NONSGML v1.0//EN
CALSCALE:GREGORIAN
METHOD:PUBLISH
X-ORIGINAL-URL:https://www.skolagaudia.sk
X-WR-CALDESC:Events for Súkromná základná umelecká škola Gaudia
REFRESH-INTERVAL;VALUE=DURATION:PT1H
X-Robots-Tag:noindex
X-PUBLISHED-TTL:PT1H
BEGIN:VTIMEZONE
TZID:Europe/Paris
BEGIN:DAYLIGHT
TZOFFSETFROM:+0100
TZOFFSETTO:+0200
TZNAME:CEST
DTSTART:20250330T010000
END:DAYLIGHT
BEGIN:STANDARD
TZOFFSETFROM:+0200
TZOFFSETTO:+0100
TZNAME:CET
DTSTART:20251026T010000
END:STANDARD
BEGIN:DAYLIGHT
TZOFFSETFROM:+0100
TZOFFSETTO:+0200
TZNAME:CEST
DTSTART:20260329T010000
END:DAYLIGHT
BEGIN:STANDARD
TZOFFSETFROM:+0200
TZOFFSETTO:+0100
TZNAME:CET
DTSTART:20261025T010000
END:STANDARD
BEGIN:DAYLIGHT
TZOFFSETFROM:+0100
TZOFFSETTO:+0200
TZNAME:CEST
DTSTART:20270328T010000
END:DAYLIGHT
BEGIN:STANDARD
TZOFFSETFROM:+0200
TZOFFSETTO:+0100
TZNAME:CET
DTSTART:20271031T010000
END:STANDARD
END:VTIMEZONE
BEGIN:VEVENT
DTSTART;TZID=Europe/Paris:20260309T090000
DTEND;TZID=Europe/Paris:20260309T110000
DTSTAMP:20260426T051918
CREATED:20260210T164345Z
LAST-MODIFIED:20260210T164414Z
UID:2573-1773046800-1773054000@www.skolagaudia.sk
SUMMARY:Pásmo pre škôlkarov
DESCRIPTION:
URL:https://www.skolagaudia.sk/event/pasmo-pre-skolkarov-2/
ATTACH;FMTTYPE=image/jpeg:https://www.skolagaudia.sk/wp-content/uploads/2026/02/co-je-to-hudba_page-0001-scaled.jpg
END:VEVENT
BEGIN:VEVENT
DTSTART;TZID=Europe/Paris:20260413T133000
DTEND;TZID=Europe/Paris:20260413T180000
DTSTAMP:20260426T051918
CREATED:20260210T162058Z
LAST-MODIFIED:20260210T162833Z
UID:2559-1776087000-1776103200@www.skolagaudia.sk
SUMMARY:Deň otvorených dverí 13. apríl 2026
DESCRIPTION:Srdečne pozývame na Deň otvorených dverí 13. apríl 2026 od 13:30 do 18:00.
URL:https://www.skolagaudia.sk/event/den-otvorenych-dveri-13-april-2026/
ATTACH;FMTTYPE=image/jpeg:https://www.skolagaudia.sk/wp-content/uploads/2026/02/dod.jpg
END:VEVENT
BEGIN:VEVENT
DTSTART;VALUE=DATE:20260415
DTEND;VALUE=DATE:20260416
DTSTAMP:20260426T051918
CREATED:20260210T164238Z
LAST-MODIFIED:20260210T164238Z
UID:2565-1776211200-1776297599@www.skolagaudia.sk
SUMMARY:Teoretická súťaž Ligatúra Gaudiensis 2026
DESCRIPTION:Srdečne pozývame na prvý ročník súťaže vo vedomostiach z teórie. 15. apríl a 16. apríl 2026
URL:https://www.skolagaudia.sk/event/teoreticka-sutaz-ligatura-gaudiensis-2026/
ATTACH;FMTTYPE=image/jpeg:https://www.skolagaudia.sk/wp-content/uploads/2026/02/Sutaz.jpg
END:VEVENT
BEGIN:VEVENT
DTSTART;VALUE=DATE:20260416
DTEND;VALUE=DATE:20260417
DTSTAMP:20260426T051918
CREATED:20260210T164418Z
LAST-MODIFIED:20260210T164418Z
UID:2575-1776297600-1776383999@www.skolagaudia.sk
SUMMARY:Teoretická súťaž Ligatúra Gaudiensis
DESCRIPTION:  \nSrdečne pozývame na prvý ročník súťaže vo vedomostiach z teórie. 15. apríl a 16. apríl 2026
URL:https://www.skolagaudia.sk/event/teoreticka-sutaz-ligatura-gaudiensis/
ATTACH;FMTTYPE=image/jpeg:https://www.skolagaudia.sk/wp-content/uploads/2026/02/Sutaz.jpg
END:VEVENT
BEGIN:VEVENT
DTSTART;TZID=Europe/Paris:20260420T160000
DTEND;TZID=Europe/Paris:20260420T170000
DTSTAMP:20260426T051918
CREATED:20260210T163854Z
LAST-MODIFIED:20260210T163854Z
UID:2567-1776700800-1776704400@www.skolagaudia.sk
SUMMARY:Prípravné kurzy k prijímacím skúškam
DESCRIPTION:
URL:https://www.skolagaudia.sk/event/pripravne-kurzy-k-prijimacim-skuskam/
ATTACH;FMTTYPE=image/jpeg:https://www.skolagaudia.sk/wp-content/uploads/2026/02/pripravne-kurzy-scaled.jpg
END:VEVENT
BEGIN:VEVENT
DTSTART;TZID=Europe/Paris:20260427T130000
DTEND;TZID=Europe/Paris:20260427T180000
DTSTAMP:20260426T051918
CREATED:20260424T120034Z
LAST-MODIFIED:20260424T124259Z
UID:2592-1777294800-1777312800@www.skolagaudia.sk
SUMMARY:Informácie k prijímacím a talentovým skúškam 2026/27 + podmienky prijatia na štúdium
DESCRIPTION:**OZNÁMENIE RIADITEĽSTVA \nSÚKROMNEJ ZÁKLADNEJ UMELECKEJ ŠKOLY GAUDIA**\nFrantiškánska 2\, 917 01 Trnava \no konaní prijímacích skúšok pre školský rok 2026/2027 \nRiaditeľstvo Súkromnej základnej umeleckej školy Gaudia\, Františkánska 2\, Trnava\,\nv súlade s § 5 vyhlášky MŠ SR č. 324/2008 Z. z. o základnej umeleckej škole v znení neskorších predpisov\nvyhlasuje prijímacie skúšky do jednotlivých umeleckých odborov. \n\n Termín konania prijímacích skúšok\n kolo:\n27. apríl 2026\n13:00 – 18:00\n kolo:\n6. máj 2026\n\n13:00 – 18:00 \n\n Miesto konania\n\nBudova SZUŠ Gaudia\nFrantiškánska 2\, 917 01 Trnava\nUčebňa č. 3 a 8 – prízemie budovy školy \nIII. Podmienky prijatia na štúdium \n\n Hudobný odbor\n\nUchádzači sú prijímaní na základe posúdenia talentových predpokladov.\nPrijímacia komisia hodnotí: \n\nHudobný sluch (rozlišovanie výšky a počtu tónov\, imitácia melódie)\nRytmické cítenie (reprodukcia tlieskaného rytmického motívu)\nSpev (interpretácia dvoch ľubovoľných ľudových piesní)\nFyzické predpoklady vzhľadom na zvolený hudobný nástroj- nie je nutné vedieť hrať na vybraný hudobný nástroj\n\n\n Literárno-dramatický odbor\n\nPrijímacie skúšky prebiehajú v súlade s § 4 vyhlášky č. 324/2008 Z. z.\nSledujú sa najmä tieto oblasti: \n\na) Rečové a komunikačné schopnosti\n\n\nArtikulácia a výslovnosť – drobné logopedické vady nie sú prekážkou\, ak je dieťa ochotné na nich pracovať\nPrednes – krátka báseň alebo úryvok z prózy (cca 1 minúta)\, hodnotí sa pamäť\, prirodzený prejav a autenticita\n\n\nb) Kreativita a predstavivosť\n\n\nImprovizačné cvičenia zamerané na prácu s rytmom\, tempom reči a pohybu\nReprodukcia jednoduchého rytmického motívu\n\n\n Audiovizuálny a multimediálny odbor\n\nPri tomto odbore sa nevyžadujú technické zručnosti – tie žiakov naučíme. Dôraz sa kladie na tvorivé myslenie\, cit pre obraz a rozprávačský talent. \nHodnotené oblasti: \n\nVizuálna a kompozičná gramotnosť\n\nAnalýza fotografie alebo krátkeho filmového záberu\nSchopnosť pomenovať hlavný motív a opísať vlastný dojem\n\n\nRozprávačský talent (storytelling)\n\nDopísanie alebo ústne dotvorenie príbehu\nOriginalita\, práca s témou\, osobitý pohľad na svet\n\n\nTechnická a logická predstavivosť\n\nZákladný prehľad (rozdiel medzi fotografiou a videom\, význam zvuku\, mikrofónu a pod.)\n\n\nMotivačný rozhovor\n\nZáujem o odbor\, obľúbené filmy\, hry alebo online tvorcovia\nOchota učiť sa nové technológie a pracovať v tíme\n\n\n\n  \n\n Ponúkané študijné zamerania – hudobný odbor\n\nPrijímame žiakov na hru na tieto nástroje:\nklavír •  husle •  akordeón •  zobcová a priečna flauta •  gitara a elektrická gitara •  violončelo • organ •  bicie nástroje • spev a muzikálový spev • klarinet• saxofón • bassgitara \nPoznámka: Kapacita jednotlivých nástrojov je obmedzená podľa počtu voľných miest u pedagógov. \nV školskom roku 2026/2027 sa budú vytvárať dve triedy PHV\, z ktorých jedna bude s rozšíreným vyučovaním literárno-dramatického odboru a druhá s rozšíreným vyučvaním zobcovej flauty\, ako ucelený edukačný proces zameraný na syntézu všeobecnej hudobnej prípravy\, podľa kritérií prijímacieho konania na ZUŠ. \n\n Administratívne pokyny\n\n\nPrihláška: zákonný zástupca vyplní elektronickú prihlášku na webovej stránke školy\nnajneskôr 3 dni pred termínom prijímacej skúšky\nVek uchádzačov:\n\ndeti od 5 rokov– deti\, ktoré k 1. 9. 2026 majú 5 rokov / dovŕšených\n\n\nVýsledky: rozhodnutie o prijatí alebo neprijatí bude oznámené zákonnému zástupcovi\ndo 30 dní od konania prijímacej\, talentovej skúšky na webovej stránke školy pod kódom\, ktorý bude každému účastníkovi pridelený v deň konania prímacej skúšky\n\nKritériá prijatia na štúdium v SZUŠ Gaudia boli prerokované a schválené na zasadnutí pedagogickej rady školy. \n  \nMgr. Marianna Krčmáriková\nriaditeľka SZUŠ Gaudia Skola \n24.04.2026  v Trnave
URL:https://www.skolagaudia.sk/event/informacie-k-prijimacim-a-talentovym-skuskam-2026-27-podmienky-prijatia-na-studium/
END:VEVENT
BEGIN:VEVENT
DTSTART;TZID=Europe/Paris:20260427T140000
DTEND;TZID=Europe/Paris:20260427T173000
DTSTAMP:20260426T051918
CREATED:20260210T162714Z
LAST-MODIFIED:20260210T162751Z
UID:2563-1777298400-1777311000@www.skolagaudia.sk
SUMMARY:Príjímacie skúšky na školský rok 2026/2027
DESCRIPTION:Pozývame Vás na Prijímacie skúšky\, ktoré sa uskutočnia: 27. apríla 2026  od 14:00 do 17:30 \n6. mája 2026 od 14:00 do 17:30
URL:https://www.skolagaudia.sk/event/prijimacie-skusky-na-skolsky-rok-2026-2027/
ATTACH;FMTTYPE=image/jpeg:https://www.skolagaudia.sk/wp-content/uploads/2026/02/Prijimacky.jpg
END:VEVENT
BEGIN:VEVENT
DTSTART;TZID=Europe/Paris:20260504T160000
DTEND;TZID=Europe/Paris:20260504T170000
DTSTAMP:20260426T051918
CREATED:20260210T163958Z
LAST-MODIFIED:20260210T163958Z
UID:2571-1777910400-1777914000@www.skolagaudia.sk
SUMMARY:Prípravné kurzy k prijímacím skúškam
DESCRIPTION:
URL:https://www.skolagaudia.sk/event/pripravne-kurzy-k-prijimacim-skuskam-2/
ATTACH;FMTTYPE=image/jpeg:https://www.skolagaudia.sk/wp-content/uploads/2026/02/pripravne-kurzy-scaled.jpg
END:VEVENT
BEGIN:VEVENT
DTSTART;TZID=Europe/Paris:20260506T140000
DTEND;TZID=Europe/Paris:20260506T173000
DTSTAMP:20260426T051918
CREATED:20260210T164836Z
LAST-MODIFIED:20260210T164918Z
UID:2578-1778076000-1778088600@www.skolagaudia.sk
SUMMARY:Prijímacie skúšky na školský rok 2026/2027
DESCRIPTION:Pozývame Vás na Prijímacie skúšky\, ktoré sa uskutočnia: 27. apríla 2026  od 14:00 do 17:30 \n6. mája 2026 od 14:00 do 17:30
URL:https://www.skolagaudia.sk/event/prijimacie-skusky-na-skolsky-rok-2026-2027-2/
ATTACH;FMTTYPE=image/jpeg:https://www.skolagaudia.sk/wp-content/uploads/2026/02/Prijimacky.jpg
END:VEVENT
END:VCALENDAR